BEGIN:VCALENDAR
VERSION:2.0
PRODID:-//Squarespace Inc/Squarespace 6//v6//EN
BEGIN:VEVENT
UID:5a67aa1153450ada89110129@squarespace.com
DTSTAMP:20180123T213636Z
DTSTART:20180224T073000Z
DTEND:20180224T103000Z
SUMMARY:Newcastle Pro Wrestling #66
GEO:-32.966977;151.692819
LOCATION:Charlestown Bowling Club\, 5 Lincoln Street\, Charlestown\, NSW\, 
 2290\, Australia
END:VEVENT
END:VCALENDAR
