BEGIN:VCALENDAR
VERSION:2.0
PRODID:-//Squarespace Inc/Squarespace 6//v6//EN
BEGIN:VEVENT
UID:5a67a95224a6946af32fe812@squarespace.com
DTSTAMP:20180123T213700Z
DTSTART:20180120T073000Z
DTEND:20180120T103000Z
SUMMARY:Newcastle Pro Wrestling #65
GEO:-32.966977;151.692819
LOCATION:Charlestown Bowling Club\, 5 Lincoln Street\, Charlestown\, NSW\, 
 2290\, Australia
END:VEVENT
END:VCALENDAR
