BEGIN:VCALENDAR
VERSION:2.0
PRODID:-//Squarespace Inc/Squarespace 6//v6//EN
BEGIN:VEVENT
UID:59f64e7b0846653ab7a6b501@squarespace.com
DTSTAMP:20171210T222214Z
DTSTART:20171202T073000Z
DTEND:20171202T103000Z
SUMMARY:Newcastle Pro Wrestling #64
GEO:-32.966977;151.692819
LOCATION:Charlestown Bowling Club\, 5 Lincoln Street\, Charlestown\, NSW\, 
 2290\, Australia
END:VEVENT
END:VCALENDAR
