BEGIN:VCALENDAR
VERSION:2.0
PRODID:-//Squarespace Inc/Squarespace 6//v6//EN
BEGIN:VEVENT
UID:59befbae64b05fdb970be5c4@squarespace.com
DTSTAMP:20171029T215611Z
DTSTART:20171028T073000Z
DTEND:20171028T103000Z
SUMMARY:Newcastle Pro Wrestling #63
GEO:-32.966977;151.692819
LOCATION:Charlestown Bowling Club\, 5 Lincoln Street\, Charlestown\, NSW\, 
 2290\, Australia
END:VEVENT
END:VCALENDAR
