BEGIN:VCALENDAR
VERSION:2.0
PRODID:-//Squarespace Inc/Squarespace 6//v6//EN
BEGIN:VEVENT
UID:59903f1be6f2e104f7045679@squarespace.com
DTSTAMP:20170917T224814Z
DTSTART:20170916T083000Z
DTEND:20170916T113000Z
SUMMARY:Newcastle Pro Wrestling #62
GEO:-32.966977;151.692819
LOCATION:Charlestown Bowling Club\, 5 Lincoln Street\, Charlestown\, NSW\, 
 2290\, Australia
END:VEVENT
END:VCALENDAR
