BEGIN:VCALENDAR
VERSION:2.0
PRODID:-//Squarespace Inc/Squarespace 6//v6//EN
BEGIN:VEVENT
UID:5a2db396419202de2eaf03b2@squarespace.com
DTSTAMP:20180123T212846Z
DTSTART:20180210T073000Z
DTEND:20180210T103000Z
SUMMARY:House Show 18+ - Saturdays Are For The Hoose
GEO:-32.987008;151.694486
LOCATION:House of Free Fighting\, 3/38 Metro Court\, Gateshead\, NSW\, 2290
 \, Australia
END:VEVENT
END:VCALENDAR
