BEGIN:VCALENDAR
VERSION:2.0
PRODID:-//Squarespace Inc/Squarespace 6//v6//EN
BEGIN:VEVENT
UID:5a30710f24a694311d372d52@squarespace.com
DTSTAMP:20171213T014722Z
DTSTART:20180113T080000Z
DTEND:20180113T110000Z
SUMMARY:NSW Pro Wrestling Central Coast Leagues Club
GEO:-33.431088;151.339483
LOCATION:Central Coast Leagues Club\, Dane Drive\, Gosford\, NSW\, 2250\, A
 ustralia
END:VEVENT
END:VCALENDAR
